BEGIN:VCALENDAR
PRODID:-//Solspace/Calendar 2.x//EN
VERSION:2.0
CALSCALE:GREGORIAN
BEGIN:VEVENT
UID:f4066cb84bc7d09e3adfae2dfa86bbcf@solspace.com
DTSTAMP:20260422T180834
DTSTART:20260422T190000
DTEND:20260422T200000
SUMMARY:Heilige Messe
END:VEVENT
END:VCALENDAR
