BEGIN:VCALENDAR
PRODID:-//Solspace/Calendar 2.x//EN
VERSION:2.0
CALSCALE:GREGORIAN
BEGIN:VEVENT
UID:480b418fc98550efe6bccb23d92fcc48@solspace.com
DTSTAMP:20260422T090227
DTSTART:20260514T111500
DTEND:20260514T121500
SUMMARY:Heilige Messe Engelaufziehen - Pfarrfest
END:VEVENT
END:VCALENDAR
