BEGIN:VCALENDAR
PRODID:-//Solspace/Calendar 2.x//EN
VERSION:2.0
CALSCALE:GREGORIAN
BEGIN:VEVENT
UID:e42d240e693b3fa221c4c89f8ef97173@solspace.com
DTSTAMP:20260422T090226
DTSTART:20260511T080000
DTEND:20260511T090000
SUMMARY:Bittmesse
END:VEVENT
END:VCALENDAR
