BEGIN:VCALENDAR
PRODID:-//Solspace/Calendar 2.x//EN
VERSION:2.0
CALSCALE:GREGORIAN
BEGIN:VEVENT
UID:9674b35076aed7ea92c2fbda788bc7c0@solspace.com
DTSTAMP:20260424T085909
DTSTART:20260513T133000
DTEND:20260514T010000
SUMMARY:Opernfahrt nach Graz (Rosenkavalier)
END:VEVENT
END:VCALENDAR
