BEGIN:VCALENDAR
PRODID:-//Solspace/Calendar 2.x//EN
VERSION:2.0
CALSCALE:GREGORIAN
BEGIN:VEVENT
UID:3e29c7b4b09a318410dd4ab5594469f6@solspace.com
DTSTAMP:20260419T135750
DTSTART:20260419T180000
DTEND:20260419T200000
SUMMARY:Heilige Messe
END:VEVENT
END:VCALENDAR
