BEGIN:VCALENDAR
PRODID:-//Solspace/Calendar 2.x//EN
VERSION:2.0
CALSCALE:GREGORIAN
BEGIN:VEVENT
UID:80905663b71fb6940ca768fb98116cfe@solspace.com
DTSTAMP:20260419T135750
DTSTART:20260419T100000
DTEND:20260419T120000
SUMMARY:Familiengottesdienst
END:VEVENT
END:VCALENDAR
