BEGIN:VCALENDAR
PRODID:-//Solspace/Calendar 2.x//EN
VERSION:2.0
CALSCALE:GREGORIAN
BEGIN:VEVENT
UID:84931e7b33768b0476459d2557c65fcb@solspace.com
DTSTAMP:20260423T095937
DTSTART:20260531T101500
DTEND:20260531T111500
SUMMARY:ERSTKOMMUNION
END:VEVENT
END:VCALENDAR
