BEGIN:VCALENDAR
PRODID:-//Solspace/Calendar 2.x//EN
VERSION:2.0
CALSCALE:GREGORIAN
BEGIN:VEVENT
UID:12d0d03f4ab711ac5b7d21dd67dd85be@solspace.com
DTSTAMP:20260423T100851
DTSTART:20260513T183000
DTEND:20260513T193000
SUMMARY:Dekanatswallfahrt auf den Freudenberg
END:VEVENT
END:VCALENDAR
