BEGIN:VCALENDAR
PRODID:-//Solspace/Calendar 2.x//EN
VERSION:2.0
CALSCALE:GREGORIAN
BEGIN:VEVENT
UID:8c30348dd71aea311b530b1317783300@solspace.com
DTSTAMP:20260423T101133
DTSTART:20260512T100000
DTEND:20260512T110000
SUMMARY:BITTPROZESSION von Eggenkreuz nach Hoch St. Paul
END:VEVENT
END:VCALENDAR
