BEGIN:VCALENDAR
PRODID:-//Solspace/Calendar 2.x//EN
VERSION:2.0
CALSCALE:GREGORIAN
BEGIN:VEVENT
UID:17eb7d49d0a35bdf7af67908604a9ed3@solspace.com
DTSTAMP:20260422T010742
DTSTART:20260419T100000
DTEND:20270131T110000
RRULE:FREQ=WEEKLY;UNTIL=20270131T235959Z;INTERVAL=1;BYDAY=SU
SUMMARY:Heilige Messe
END:VEVENT
END:VCALENDAR
