BEGIN:VCALENDAR
PRODID:-//Solspace/Calendar 2.x//EN
VERSION:2.0
CALSCALE:GREGORIAN
BEGIN:VEVENT
UID:46c23322ad48b41c0499384e55545b39@solspace.com
DTSTAMP:20260422T010543
DTSTART:20261115T080000
DTEND:20261115T090000
SUMMARY:Heilige Messe
END:VEVENT
END:VCALENDAR
