BEGIN:VCALENDAR
PRODID:-//Solspace/Calendar 2.x//EN
VERSION:2.0
CALSCALE:GREGORIAN
BEGIN:VEVENT
UID:40af6fd2fba5ff7b317a29cda20249da@solspace.com
DTSTAMP:20260422T010605
DTSTART:20261102T080000
DTEND:20261102T090000
SUMMARY:Heilige Messe und anschl. Gräbersegnung
END:VEVENT
END:VCALENDAR
