BEGIN:VCALENDAR
PRODID:-//Solspace/Calendar 2.x//EN
VERSION:2.0
CALSCALE:GREGORIAN
BEGIN:VEVENT
UID:08d543def6ba9155d5f64462cb8f9074@solspace.com
DTSTAMP:20260422T010754
DTSTART:20261101T140000
DTEND:20261101T150000
SUMMARY:Gräbersegnung
END:VEVENT
END:VCALENDAR
