BEGIN:VCALENDAR
PRODID:-//Solspace/Calendar 2.x//EN
VERSION:2.0
CALSCALE:GREGORIAN
BEGIN:VEVENT
UID:0960032b621b5ee330dbbfd6890b1f47@solspace.com
DTSTAMP:20260422T010920
DTSTART:20261018T080000
DTEND:20261018T090000
SUMMARY:Heilige Messe
END:VEVENT
END:VCALENDAR
