BEGIN:VCALENDAR
PRODID:-//Solspace/Calendar 2.x//EN
VERSION:2.0
CALSCALE:GREGORIAN
BEGIN:VEVENT
UID:878103fd6459f8837b9a94d31938bf0d@solspace.com
DTSTAMP:20260422T010432
DTSTART:20260920T080000
DTEND:20260920T090000
SUMMARY:Heilige Messe
END:VEVENT
END:VCALENDAR
