BEGIN:VCALENDAR
PRODID:-//Solspace/Calendar 2.x//EN
VERSION:2.0
CALSCALE:GREGORIAN
BEGIN:VEVENT
UID:9e34df13e73248bd356c15f5bb10d43c@solspace.com
DTSTAMP:20260422T010651
DTSTART:20260816T080000
DTEND:20260816T090000
SUMMARY:Heilige Messe
END:VEVENT
END:VCALENDAR
