BEGIN:VCALENDAR
PRODID:-//Solspace/Calendar 2.x//EN
VERSION:2.0
CALSCALE:GREGORIAN
BEGIN:VEVENT
UID:e923fcbf33fbcf27538c77cd1dd57bdb@solspace.com
DTSTAMP:20260422T010432
DTSTART:20260719T110000
DTEND:20260719T120000
SUMMARY:Heilige Messe
END:VEVENT
END:VCALENDAR
