BEGIN:VCALENDAR
PRODID:-//Solspace/Calendar 2.x//EN
VERSION:2.0
CALSCALE:GREGORIAN
BEGIN:VEVENT
UID:d4d03adf79abff05b1dcf869f27845da@solspace.com
DTSTAMP:20260422T010651
DTSTART:20260628T110000
DTEND:20260628T120000
SUMMARY:Heilige Messe mit Umgang und Segen
END:VEVENT
END:VCALENDAR
