BEGIN:VCALENDAR
PRODID:-//Solspace/Calendar 2.x//EN
VERSION:2.0
CALSCALE:GREGORIAN
BEGIN:VEVENT
UID:b375e746c00edf7d393a5f765c672c9c@solspace.com
DTSTAMP:20260422T010742
DTSTART:20260621T080000
DTEND:20260621T090000
SUMMARY:Heilige Messe
END:VEVENT
END:VCALENDAR
