BEGIN:VCALENDAR
PRODID:-//Solspace/Calendar 2.x//EN
VERSION:2.0
CALSCALE:GREGORIAN
BEGIN:VEVENT
UID:0951da0ad3fafea4d7c7fe6c5ef9ced7@solspace.com
DTSTAMP:20260422T010417
DTSTART:20260517T080000
DTEND:20260517T090000
SUMMARY:Heilige Messe
END:VEVENT
END:VCALENDAR
