BEGIN:VCALENDAR
PRODID:-//Solspace/Calendar 2.x//EN
VERSION:2.0
CALSCALE:GREGORIAN
BEGIN:VEVENT
UID:e672ff5ae4e11d9256039bd02e5785ed@solspace.com
DTSTAMP:20260419T154022
DTSTART:20260422T190000
DTEND:20260422T203000
SUMMARY:Herzensbildung to go.
END:VEVENT
END:VCALENDAR
