BEGIN:VCALENDAR
PRODID:-//Solspace/Calendar 2.x//EN
VERSION:2.0
CALSCALE:GREGORIAN
BEGIN:VEVENT
UID:dd5f499e2d7ea7d4e41f1bcfb08cc71f@solspace.com
DTSTAMP:20260424T163658
DTSTART:20260808T100000
DTEND:20260813T220000
SUMMARY:Masterclass for singers
END:VEVENT
END:VCALENDAR
