BEGIN:VCALENDAR
PRODID:-//Solspace/Calendar 2.x//EN
VERSION:2.0
CALSCALE:GREGORIAN
BEGIN:VEVENT
UID:0b83323dc79a0d2152bf1058c26ed271@solspace.com
DTSTAMP:20260420T084014
DTSTART:20260512T183000
DTEND:20260512T193000
SUMMARY:Heilige Messe in Neudorf
END:VEVENT
END:VCALENDAR
