BEGIN:VCALENDAR
PRODID:-//Solspace/Calendar 2.x//EN
VERSION:2.0
CALSCALE:GREGORIAN
BEGIN:VEVENT
UID:594dde6a73987d9fd2e5fa2c138b1230@solspace.com
DTSTAMP:20260420T084013
DTSTART:20260531T150000
DTEND:20260531T160000
SUMMARY:Kirchtagsmesse in Neudorf
END:VEVENT
END:VCALENDAR
