BEGIN:VCALENDAR
PRODID:-//Solspace/Calendar 2.x//EN
VERSION:2.0
CALSCALE:GREGORIAN
BEGIN:VEVENT
UID:23b682af742fc7c925a41a5c5fe47024@solspace.com
DTSTAMP:20260420T084028
DTSTART:20260517T113000
DTEND:20260517T123000
SUMMARY:Kirchtagsmesse in Obervellach
END:VEVENT
END:VCALENDAR
