BEGIN:VCALENDAR
PRODID:-//Solspace/Calendar 2.x//EN
VERSION:2.0
CALSCALE:GREGORIAN
BEGIN:VEVENT
UID:18e8484faf6b80728e26ec815817e8d2@solspace.com
DTSTAMP:20260420T084005
DTSTART:20260511T183000
DTEND:20260511T193000
SUMMARY:Wortgottesfeier in Untervellach
END:VEVENT
END:VCALENDAR
