BEGIN:VCALENDAR
PRODID:-//Solspace/Calendar 2.x//EN
VERSION:2.0
CALSCALE:GREGORIAN
BEGIN:VEVENT
UID:13910b5e1f2df8c0b0eae9f19b332285@solspace.com
DTSTAMP:20260420T084008
DTSTART:20260417T183000
DTEND:20260417T193000
RRULE:FREQ=WEEKLY;UNTIL=20260626T235959Z;INTERVAL=1;BYDAY=FR
SUMMARY:Heilige Messe in Maria Thurn
END:VEVENT
END:VCALENDAR
