BEGIN:VCALENDAR
PRODID:-//Solspace/Calendar 2.x//EN
VERSION:2.0
CALSCALE:GREGORIAN
BEGIN:VEVENT
UID:b480267828cbbd16c1c7de9acfae5a20@solspace.com
DTSTAMP:20260420T084029
DTSTART:20260604T083000
DTEND:20260604T093000
SUMMARY:Heilige Messe mit Fronleichnamsprozession
END:VEVENT
END:VCALENDAR
