BEGIN:VCALENDAR
PRODID:-//Solspace/Calendar 2.x//EN
VERSION:2.0
CALSCALE:GREGORIAN
BEGIN:VEVENT
UID:99118dccec16ac1c6380270c4a6d97d9@solspace.com
DTSTAMP:20260420T123428
DTSTART:20260525T100000
DTEND:20260525T110000
SUMMARY:Heilige Messe mit Firmung
END:VEVENT
END:VCALENDAR
