BEGIN:VCALENDAR
PRODID:-//Solspace/Calendar 2.x//EN
VERSION:2.0
CALSCALE:GREGORIAN
BEGIN:VEVENT
UID:68cada6d606311cae15a0bed9be52d53@solspace.com
DTSTAMP:20260420T084022
DTSTART:20260514T100000
DTEND:20260514T110000
SUMMARY:Festgottesdienst - ODV mit Bläserensemble
END:VEVENT
END:VCALENDAR
