BEGIN:VCALENDAR
PRODID:-//Solspace/Calendar 2.x//EN
VERSION:2.0
CALSCALE:GREGORIAN
BEGIN:VEVENT
UID:dce4432d36b05611906d809ff3d2d94b@solspace.com
DTSTAMP:20260420T084023
DTSTART:20260304T160000
DTEND:20260304T170000
SUMMARY:Heilige Messe im Krankenhaus
END:VEVENT
BEGIN:VEVENT
UID:7a0260391e79c1b0abdf4f0e1235cf58@solspace.com
DTSTAMP:20260420T084023
DTSTART:20260415T000000
DTEND:20260415T170000
SUMMARY:Heilige Messe im Krankenhaus
END:VEVENT
BEGIN:VEVENT
UID:a286d45b646aeba2445d399ccea665c0@solspace.com
DTSTAMP:20260420T084023
DTSTART:20260506T000000
DTEND:20260506T170000
SUMMARY:Heilige Messe im Krankenhaus
END:VEVENT
BEGIN:VEVENT
UID:dac23c26f676262486fce8e8d747df7e@solspace.com
DTSTAMP:20260420T084023
DTSTART:20260610T000000
DTEND:20260610T170000
SUMMARY:Heilige Messe im Krankenhaus
END:VEVENT
END:VCALENDAR
