BEGIN:VCALENDAR
PRODID:-//Solspace/Calendar 2.x//EN
VERSION:2.0
CALSCALE:GREGORIAN
BEGIN:VEVENT
UID:fe65e9cefeab56bf3a949570890381cf@solspace.com
DTSTAMP:20260420T084011
DTSTART:20260524T100000
DTEND:20260524T110000
SUMMARY:Festgottesdienst\, ODV mit Bläserensemble
END:VEVENT
END:VCALENDAR
