BEGIN:VCALENDAR
PRODID:-//Solspace/Calendar 2.x//EN
VERSION:2.0
CALSCALE:GREGORIAN
BEGIN:VEVENT
UID:6bc4794beca57d7e065d831f645c8753@solspace.com
DTSTAMP:20260420T084013
DTSTART:20260503T100000
DTEND:20260503T110000
SUMMARY:Heilige Messe - Erstkommunionfeier
END:VEVENT
END:VCALENDAR
