BEGIN:VCALENDAR
PRODID:-//Solspace/Calendar 2.x//EN
VERSION:2.0
CALSCALE:GREGORIAN
BEGIN:VEVENT
UID:3add0ef405bb4ce56e57dd11045dfebb@solspace.com
DTSTAMP:20260425T162332
DTSTART:20260424T130000
DTEND:20260426T130000
SUMMARY:Alles hat seine Zeit - auch das Alter
END:VEVENT
END:VCALENDAR
