BEGIN:VCALENDAR
PRODID:-//Solspace/Calendar 2.x//EN
VERSION:2.0
CALSCALE:GREGORIAN
BEGIN:VEVENT
UID:9a1647ff73e60f912ec1d51279fee5a4@solspace.com
DTSTAMP:20260423T143959
DTSTART:20260726T110000
DTEND:20260726T120000
SUMMARY:Christophorus Fahrzeugsegnung auf der Turracher Höhe
END:VEVENT
END:VCALENDAR
