BEGIN:VCALENDAR
PRODID:-//Solspace/Calendar 2.x//EN
VERSION:2.0
CALSCALE:GREGORIAN
BEGIN:VEVENT
UID:87234ff7a1491777c994b4a26d6c1e5c@solspace.com
DTSTAMP:20260423T144418
DTSTART:20260706T183000
DTEND:20260706T193000
RRULE:FREQ=WEEKLY;UNTIL=20260810T235959Z;INTERVAL=1;BYDAY=MO
SUMMARY:Camping-Gottesdienst am Keutschacher See
END:VEVENT
END:VCALENDAR
